BEGIN:VCALENDAR
VERSION:2.0
PRODID:-//Stoney Creek Publishing - ECPv6.15.20//NONSGML v1.0//EN
CALSCALE:GREGORIAN
METHOD:PUBLISH
X-WR-CALNAME:Stoney Creek Publishing
X-ORIGINAL-URL:http://stoneycreekpublishing.com
X-WR-CALDESC:Events for Stoney Creek Publishing
REFRESH-INTERVAL;VALUE=DURATION:PT1H
X-Robots-Tag:noindex
X-PUBLISHED-TTL:PT1H
BEGIN:VTIMEZONE
TZID:America/Chicago
BEGIN:DAYLIGHT
TZOFFSETFROM:-0600
TZOFFSETTO:-0500
TZNAME:CDT
DTSTART:20250309T080000
END:DAYLIGHT
BEGIN:STANDARD
TZOFFSETFROM:-0500
TZOFFSETTO:-0600
TZNAME:CST
DTSTART:20251102T070000
END:STANDARD
BEGIN:DAYLIGHT
TZOFFSETFROM:-0600
TZOFFSETTO:-0500
TZNAME:CDT
DTSTART:20260308T080000
END:DAYLIGHT
BEGIN:STANDARD
TZOFFSETFROM:-0500
TZOFFSETTO:-0600
TZNAME:CST
DTSTART:20261101T070000
END:STANDARD
BEGIN:DAYLIGHT
TZOFFSETFROM:-0600
TZOFFSETTO:-0500
TZNAME:CDT
DTSTART:20270314T080000
END:DAYLIGHT
BEGIN:STANDARD
TZOFFSETFROM:-0500
TZOFFSETTO:-0600
TZNAME:CST
DTSTART:20271107T070000
END:STANDARD
END:VTIMEZONE
BEGIN:VEVENT
DTSTART;TZID=America/Chicago:20260422T160000
DTEND;TZID=America/Chicago:20260422T190000
DTSTAMP:20260424T041043
CREATED:20260406T162641Z
LAST-MODIFIED:20260406T162641Z
UID:846-1776873600-1776884400@stoneycreekpublishing.com
SUMMARY:TD Motley Book Signing at Talking Animals Books - Earth Day Celebration
DESCRIPTION:
URL:http://stoneycreekpublishing.com/event/td-motley-book-signing-at-talking-animals-books-earth-day-celebration/
LOCATION:Talking Animals Books\, 123 Main St\, New York\, NY\, 11222\, United States
CATEGORIES:Book signing
ATTACH;FMTTYPE=image/png:http://stoneycreekpublishing.com/wp-content/uploads/2025/11/dev-event.png
END:VEVENT
BEGIN:VEVENT
DTSTART;TZID=America/Chicago:20260418T113000
DTEND;TZID=America/Chicago:20260418T140000
DTSTAMP:20260424T041043
CREATED:20260414T201608Z
LAST-MODIFIED:20260414T201608Z
UID:859-1776511800-1776520800@stoneycreekpublishing.com
SUMMARY:Tim Whitt book signing at Impact Book Festival in Birmingham\, Alabama
DESCRIPTION:
URL:http://stoneycreekpublishing.com/event/tim-whitt-book-signing-at-impact-book-festival-in-birmingham-alabama/
LOCATION:Fultondale Event Center\, 1210 Old Walker Chapel Road\, Fultondale\, AL\, 35068\, United States
CATEGORIES:Book signing
ATTACH;FMTTYPE=image/jpeg:http://stoneycreekpublishing.com/wp-content/uploads/2026/01/TimWhittphoto.jpg
END:VEVENT
BEGIN:VEVENT
DTSTART;TZID=America/Chicago:20260418T090000
DTEND;TZID=America/Chicago:20260418T160000
DTSTAMP:20260424T041043
CREATED:20260406T162134Z
LAST-MODIFIED:20260406T162134Z
UID:844-1776502800-1776528000@stoneycreekpublishing.com
SUMMARY:Tim Whitt book signing at Rickwood Sports Card Show in Birmingham
DESCRIPTION:
URL:http://stoneycreekpublishing.com/event/tim-whitt-book-signing-at-rickwood-sports-card-show-in-birmingham/
LOCATION:Rickwood Field\, 1137 2nd Ave W\, Birmingham\, AL\, 35204\, United States
CATEGORIES:Book signing
ATTACH;FMTTYPE=image/png:http://stoneycreekpublishing.com/wp-content/uploads/2026/01/Rickwood.png
END:VEVENT
BEGIN:VEVENT
DTSTART;TZID=America/Chicago:20260412T110000
DTEND;TZID=America/Chicago:20260412T130000
DTSTAMP:20260424T041043
CREATED:20260406T161537Z
LAST-MODIFIED:20260406T161612Z
UID:842-1775991600-1775998800@stoneycreekpublishing.com
SUMMARY:Charles Petrie Book Signing at Chemn Cafe in Elgin
DESCRIPTION:
URL:http://stoneycreekpublishing.com/event/charles-petrie-book-signing-at-chemn-cafe-in-elgin/
LOCATION:Chemn Cafe\, 114 North Main Street\, Elgin\, TX\, United States
CATEGORIES:Book signing
ATTACH;FMTTYPE=image/png:http://stoneycreekpublishing.com/wp-content/uploads/2026/01/Dark-Texas.png
END:VEVENT
BEGIN:VEVENT
DTSTART;TZID=America/Chicago:20260411T130000
DTEND;TZID=America/Chicago:20260411T140000
DTSTAMP:20260424T041043
CREATED:20260406T160415Z
LAST-MODIFIED:20260406T160415Z
UID:838-1775912400-1775916000@stoneycreekpublishing.com
SUMMARY:Charles Petrie Book Signing at San Antonio Book Festival
DESCRIPTION:
URL:http://stoneycreekpublishing.com/event/charles-petrie-book-signing-at-san-antonio-book-festival/
LOCATION:San Antonio Central Library\, 600 Soledad Street\, San Antonio\, TX\, United States
CATEGORIES:Book signing
ATTACH;FMTTYPE=image/png:http://stoneycreekpublishing.com/wp-content/uploads/2026/01/Dark-Texas.png
END:VEVENT
BEGIN:VEVENT
DTSTART;TZID=America/Chicago:20260411T100000
DTEND;TZID=America/Chicago:20260411T120000
DTSTAMP:20260424T041043
CREATED:20260406T161032Z
LAST-MODIFIED:20260406T161032Z
UID:840-1775901600-1775908800@stoneycreekpublishing.com
SUMMARY:Joe Mock Book Signing at Raider Depot - Texas Tech Bookstore
DESCRIPTION:
URL:http://stoneycreekpublishing.com/event/joe-mock-book-signing-at-raider-depot-texas-tech-bookstore/
LOCATION:Raider Depot – Texas Tech Bookstore\, 2625 15th St.\, Lubbock\, TX\, 79409\, United States
CATEGORIES:Book signing
ATTACH;FMTTYPE=image/png:http://stoneycreekpublishing.com/wp-content/uploads/2026/01/Rickwood.png
END:VEVENT
BEGIN:VEVENT
DTSTART;TZID=America/Chicago:20260410T140000
DTEND;TZID=America/Chicago:20260410T160000
DTSTAMP:20260424T041043
CREATED:20260406T155821Z
LAST-MODIFIED:20260406T155821Z
UID:836-1775829600-1775836800@stoneycreekpublishing.com
SUMMARY:Joe Mock book signing at 2nd Chance Books in Lubbock
DESCRIPTION:
URL:http://stoneycreekpublishing.com/event/joe-mock-book-signing-at-2nd-chance-books-in-lubbock/
LOCATION:2nd Chance Books\, 4206 50th St\, Lubbock\, TX\, 79413\, United States
CATEGORIES:Book signing
ATTACH;FMTTYPE=image/png:http://stoneycreekpublishing.com/wp-content/uploads/2026/01/Rickwood.png
END:VEVENT
BEGIN:VEVENT
DTSTART;TZID=America/Chicago:20260410T100000
DTEND;TZID=America/Chicago:20260410T120000
DTSTAMP:20260424T041043
CREATED:20260406T154230Z
LAST-MODIFIED:20260406T154540Z
UID:833-1775815200-1775822400@stoneycreekpublishing.com
SUMMARY:Joe Mock book signing at LitBrews in Lubbock
DESCRIPTION:
URL:http://stoneycreekpublishing.com/event/joe-mock-book-signing-at-litbrews-in-lubbock/
LOCATION:LitBrews\, 3501 50th St Ste 124\, Lubbock\, TX\, 79413\, United States
CATEGORIES:Book signing
ATTACH;FMTTYPE=image/png:http://stoneycreekpublishing.com/wp-content/uploads/2026/01/Rickwood.png
END:VEVENT
BEGIN:VEVENT
DTSTART;TZID=America/Chicago:20260408T180000
DTEND;TZID=America/Chicago:20260408T180000
DTSTAMP:20260424T041043
CREATED:20260218T212517Z
LAST-MODIFIED:20260218T212531Z
UID:751-1775671200-1775671200@stoneycreekpublishing.com
SUMMARY:Book Launch for Outcry Witness
DESCRIPTION:
URL:http://stoneycreekpublishing.com/event/book-launch-for-outcry-witness/
LOCATION:Interbang Books\, 5600 W. Lovers Ln\, Suite 142\, Dallas\, TX\, 75209\, United States
CATEGORIES:Book signing
ATTACH;FMTTYPE=image/png:http://stoneycreekpublishing.com/wp-content/uploads/2026/01/Outcry-Witness.png
END:VEVENT
BEGIN:VEVENT
DTSTART;TZID=America/Chicago:20260408T100000
DTEND;TZID=America/Chicago:20260408T100000
DTSTAMP:20260424T041043
CREATED:20260218T211939Z
LAST-MODIFIED:20260218T221153Z
UID:748-1775642400-1775642400@stoneycreekpublishing.com
SUMMARY:Jack Woodville London in Spicewood
DESCRIPTION:
URL:http://stoneycreekpublishing.com/event/jack-woodville-london-in-spicewood/
LOCATION:Spicewood Community Library\, 1011 Spur 191\, Spicewood\, TX\, 78669\, United States
CATEGORIES:Book signing
ATTACH;FMTTYPE=image/jpeg:http://stoneycreekpublishing.com/wp-content/uploads/2026/02/Jack-Woodville-London-tight-crop-scaled.jpeg
END:VEVENT
BEGIN:VEVENT
DTSTART;TZID=America/Chicago:20260403T170000
DTEND;TZID=America/Chicago:20260403T190000
DTSTAMP:20260424T041043
CREATED:20260317T140714Z
LAST-MODIFIED:20260317T140714Z
UID:805-1775235600-1775242800@stoneycreekpublishing.com
SUMMARY:Rickwood Book Signing at Barnes & Noble Knoxville
DESCRIPTION:
URL:http://stoneycreekpublishing.com/event/rickwood-book-signing-at-barnes-noble-knoxville/
LOCATION:Barnes & Noble Pinnacle at Turkey Creek\, 11334 Parkside Drive\, Knoxville\, TN\, 37922\, United States
CATEGORIES:Book signing
ATTACH;FMTTYPE=image/png:http://stoneycreekpublishing.com/wp-content/uploads/2026/01/Rickwood.png
END:VEVENT
BEGIN:VEVENT
DTSTART;TZID=America/Chicago:20260329T120000
DTEND;TZID=America/Chicago:20260329T160000
DTSTAMP:20260424T041043
CREATED:20260218T211400Z
LAST-MODIFIED:20260218T221421Z
UID:744-1774785600-1774800000@stoneycreekpublishing.com
SUMMARY:Aviation Therapy at the Smithsonian
DESCRIPTION:
URL:http://stoneycreekpublishing.com/event/aviation-therapy-at-the-smithsonian/
LOCATION:Smithsonian National Air & Space Museum\, 650 Jefferson Drive SW\, Washington\, DC\, 20004\, United States
CATEGORIES:Book signing
ATTACH;FMTTYPE=image/jpeg:http://stoneycreekpublishing.com/wp-content/uploads/2026/02/David-Dale-tight-crop-1-scaled.jpg
END:VEVENT
BEGIN:VEVENT
DTSTART;TZID=America/Chicago:20260328T140000
DTEND;TZID=America/Chicago:20260328T160000
DTSTAMP:20260424T041043
CREATED:20260317T134847Z
LAST-MODIFIED:20260317T134847Z
UID:801-1774706400-1774713600@stoneycreekpublishing.com
SUMMARY:Rickwood Book Signing at Barnes & Noble Atlanta
DESCRIPTION:
URL:http://stoneycreekpublishing.com/event/rickwood-book-signing-at-barnes-noble-atlanta/
LOCATION:Barnes & Noble cumberland\, 2952 Cobb Pkwy.\, Atlanta\, GA\, 30339\, United States
CATEGORIES:Book signing
ATTACH;FMTTYPE=image/png:http://stoneycreekpublishing.com/wp-content/uploads/2026/01/Rickwood.png
END:VEVENT
BEGIN:VEVENT
DTSTART;TZID=America/Chicago:20260328T110000
DTEND;TZID=America/Chicago:20260328T160000
DTSTAMP:20260424T041043
CREATED:20260317T135940Z
LAST-MODIFIED:20260317T135940Z
UID:803-1774695600-1774713600@stoneycreekpublishing.com
SUMMARY:Aviation Therapy at The Smithsonian (Stephen F. Udvar-Hazy Center)
DESCRIPTION:
URL:http://stoneycreekpublishing.com/event/aviation-therapy-at-the-smithsonian-stephen-f-udvar-hazy-center/
LOCATION:Smithsonian National Air & Space Museum\, Udvar-Hazy Center\, 14390 Air and Space Museum Parkway\, Chantilly\, VA\, 20151\, United States
CATEGORIES:Book signing
ATTACH;FMTTYPE=image/jpeg:http://stoneycreekpublishing.com/wp-content/uploads/2026/02/David-Dale-tight-crop-1-scaled.jpg
END:VEVENT
BEGIN:VEVENT
DTSTART;TZID=America/Chicago:20260317T000000
DTEND;TZID=America/Chicago:20260317T000000
DTSTAMP:20260424T041043
CREATED:20260214T203558Z
LAST-MODIFIED:20260218T210507Z
UID:704-1773705600-1773705600@stoneycreekpublishing.com
SUMMARY:Teddy Jones on A Family of Good Women
DESCRIPTION:
URL:http://stoneycreekpublishing.com/event/teddy-jones-on-a-family-of-good-women/
LOCATION:Phillips Petroleum\, Spur 119 N.\, Borger\, TX\, 79007\, United States
CATEGORIES:Book signing
ATTACH;FMTTYPE=image/jpeg:http://stoneycreekpublishing.com/wp-content/uploads/2026/02/Teddy-Jones-tight-crop.jpg
END:VEVENT
BEGIN:VEVENT
DTSTART;TZID=America/Chicago:20260308T140000
DTEND;TZID=America/Chicago:20260308T140000
DTSTAMP:20260424T041043
CREATED:20260218T210128Z
LAST-MODIFIED:20260218T210128Z
UID:741-1772978400-1772978400@stoneycreekpublishing.com
SUMMARY:Rickwood Signing at Rockies' Spring Training
DESCRIPTION:
URL:http://stoneycreekpublishing.com/event/rickwood-signing-at-rockies-spring-training/
LOCATION:Salt River Fields\, 7555 N. Pima Rd\, Scottsdale\, 85258
CATEGORIES:Book signing
ATTACH;FMTTYPE=image/jpeg:http://stoneycreekpublishing.com/wp-content/uploads/2026/02/Untitled-design-1.jpg
END:VEVENT
BEGIN:VEVENT
DTSTART;TZID=America/Chicago:20260307T140000
DTEND;TZID=America/Chicago:20260307T140000
DTSTAMP:20260424T041043
CREATED:20260218T205526Z
LAST-MODIFIED:20260218T210220Z
UID:738-1772892000-1772892000@stoneycreekpublishing.com
SUMMARY:Book Signing at Diamondbacks' Spring Training
DESCRIPTION:
URL:http://stoneycreekpublishing.com/event/book-signing-at-spring-training/
LOCATION:Salt River Fields\, 7555 N. Pima Rd\, Scottsdale\, 85258
CATEGORIES:Book signing
ATTACH;FMTTYPE=image/png:http://stoneycreekpublishing.com/wp-content/uploads/2026/01/Rickwood.png
END:VEVENT
BEGIN:VEVENT
DTSTART;TZID=America/Chicago:20260307T110000
DTEND;TZID=America/Chicago:20260307T130000
DTSTAMP:20260424T041043
CREATED:20260218T204641Z
LAST-MODIFIED:20260218T210255Z
UID:736-1772881200-1772888400@stoneycreekpublishing.com
SUMMARY:Rickwood Book Signing
DESCRIPTION:
URL:http://stoneycreekpublishing.com/event/rickwood-book-signing-2/
LOCATION:Barnes & Noble\, Scottsdale Fiesta Shopping Center\, 10500 N. 90th Street\, Scottsdale\, AZ\, 85258\, United States
CATEGORIES:Book signing
ATTACH;FMTTYPE=image/jpeg:http://stoneycreekpublishing.com/wp-content/uploads/2026/02/Untitled-design-1.jpg
END:VEVENT
BEGIN:VEVENT
DTSTART;TZID=America/Chicago:20260304T100000
DTEND;TZID=America/Chicago:20260304T100000
DTSTAMP:20260424T041043
CREATED:20260214T201950Z
LAST-MODIFIED:20260214T204147Z
UID:700-1772618400-1772618400@stoneycreekpublishing.com
SUMMARY:Whitt\, Mock Talk Rickwood and Baseball
DESCRIPTION:
URL:http://stoneycreekpublishing.com/event/whitt-mock-talk-rickwood-and-baseball/
LOCATION:Sun City Grand\, Cimarron Club Room\, 17100 West Clearview Blvd\, Surprise\, AZ\, 85387\, United States
CATEGORIES:Book signing
ATTACH;FMTTYPE=image/jpeg:http://stoneycreekpublishing.com/wp-content/uploads/2026/02/Untitled-design-1.jpg
END:VEVENT
BEGIN:VEVENT
DTSTART;TZID=America/Chicago:20260224T093000
DTEND;TZID=America/Chicago:20260224T093000
DTSTAMP:20260424T041043
CREATED:20260129T003119Z
LAST-MODIFIED:20260214T203111Z
UID:663-1771925400-1771925400@stoneycreekpublishing.com
SUMMARY:"No Saints Here" book signing
DESCRIPTION:
URL:http://stoneycreekpublishing.com/event/no-saints-here-book-signing/
LOCATION:Texas Woman’s University\, 307 Administration Drive\, Denton\, TX\, 76204\, United States
CATEGORIES:Book signing
ATTACH;FMTTYPE=image/jpeg:http://stoneycreekpublishing.com/wp-content/uploads/2026/01/No-Saints-Here-Front-Cover.jpeg
END:VEVENT
BEGIN:VEVENT
DTSTART;TZID=America/Chicago:20260221T173000
DTEND;TZID=America/Chicago:20260221T200000
DTSTAMP:20260424T041043
CREATED:20260129T001449Z
LAST-MODIFIED:20260129T005514Z
UID:654-1771695000-1771704000@stoneycreekpublishing.com
SUMMARY:'Dark Texas' Launch
DESCRIPTION:
URL:http://stoneycreekpublishing.com/event/dark-texas-lauch/
LOCATION:Why Knot Bar\, 353 Watersedge Terrace Dr\, Elgin\, TX\, 78621\, United States
CATEGORIES:Book signing
ATTACH;FMTTYPE=image/jpeg:http://stoneycreekpublishing.com/wp-content/uploads/2026/01/DARK-TEXAS-cover-image-scaled.jpg
END:VEVENT
BEGIN:VEVENT
DTSTART;TZID=America/Chicago:20260218T080000
DTEND;TZID=America/Chicago:20260218T170000
DTSTAMP:20260424T041043
CREATED:20260218T204047Z
LAST-MODIFIED:20260218T204121Z
UID:732-1771401600-1771434000@stoneycreekpublishing.com
SUMMARY:Rickwood Book Signing — Barnes & Noble\, Scottsdale AZ
DESCRIPTION:
URL:http://stoneycreekpublishing.com/event/rickwood-book-signing/
LOCATION:Barnes & Noble\, Scottsdale Fiesta Shopping Center\, 10500 N. 90th Street\, Scottsdale\, AZ\, 85258\, United States
CATEGORIES:Book signing
ATTACH;FMTTYPE=image/jpeg:http://stoneycreekpublishing.com/wp-content/uploads/2026/02/Untitled-design-1.jpg
END:VEVENT
END:VCALENDAR