BEGIN:VCALENDAR
VERSION:2.0
PRODID:-//Stoney Creek Publishing - ECPv6.15.20//NONSGML v1.0//EN
CALSCALE:GREGORIAN
METHOD:PUBLISH
X-WR-CALNAME:Stoney Creek Publishing
X-ORIGINAL-URL:http://stoneycreekpublishing.com
X-WR-CALDESC:Events for Stoney Creek Publishing
REFRESH-INTERVAL;VALUE=DURATION:PT1H
X-Robots-Tag:noindex
X-PUBLISHED-TTL:PT1H
BEGIN:VTIMEZONE
TZID:America/Chicago
BEGIN:DAYLIGHT
TZOFFSETFROM:-0600
TZOFFSETTO:-0500
TZNAME:CDT
DTSTART:20250309T080000
END:DAYLIGHT
BEGIN:STANDARD
TZOFFSETFROM:-0500
TZOFFSETTO:-0600
TZNAME:CST
DTSTART:20251102T070000
END:STANDARD
BEGIN:DAYLIGHT
TZOFFSETFROM:-0600
TZOFFSETTO:-0500
TZNAME:CDT
DTSTART:20260308T080000
END:DAYLIGHT
BEGIN:STANDARD
TZOFFSETFROM:-0500
TZOFFSETTO:-0600
TZNAME:CST
DTSTART:20261101T070000
END:STANDARD
BEGIN:DAYLIGHT
TZOFFSETFROM:-0600
TZOFFSETTO:-0500
TZNAME:CDT
DTSTART:20270314T080000
END:DAYLIGHT
BEGIN:STANDARD
TZOFFSETFROM:-0500
TZOFFSETTO:-0600
TZNAME:CST
DTSTART:20271107T070000
END:STANDARD
END:VTIMEZONE
BEGIN:VEVENT
DTSTART;TZID=America/Chicago:20260328T110000
DTEND;TZID=America/Chicago:20260328T160000
DTSTAMP:20260422T094446
CREATED:20260317T135940Z
LAST-MODIFIED:20260317T135940Z
UID:803-1774695600-1774713600@stoneycreekpublishing.com
SUMMARY:Aviation Therapy at The Smithsonian (Stephen F. Udvar-Hazy Center)
DESCRIPTION:
URL:http://stoneycreekpublishing.com/event/aviation-therapy-at-the-smithsonian-stephen-f-udvar-hazy-center/
LOCATION:Smithsonian National Air & Space Museum\, Udvar-Hazy Center\, 14390 Air and Space Museum Parkway\, Chantilly\, VA\, 20151\, United States
CATEGORIES:Book signing
ATTACH;FMTTYPE=image/jpeg:http://stoneycreekpublishing.com/wp-content/uploads/2026/02/David-Dale-tight-crop-1-scaled.jpg
END:VEVENT
BEGIN:VEVENT
DTSTART;TZID=America/Chicago:20260317T000000
DTEND;TZID=America/Chicago:20260317T000000
DTSTAMP:20260422T094446
CREATED:20260214T203558Z
LAST-MODIFIED:20260218T210507Z
UID:704-1773705600-1773705600@stoneycreekpublishing.com
SUMMARY:Teddy Jones on A Family of Good Women
DESCRIPTION:
URL:http://stoneycreekpublishing.com/event/teddy-jones-on-a-family-of-good-women/
LOCATION:Phillips Petroleum\, Spur 119 N.\, Borger\, TX\, 79007\, United States
CATEGORIES:Book signing
ATTACH;FMTTYPE=image/jpeg:http://stoneycreekpublishing.com/wp-content/uploads/2026/02/Teddy-Jones-tight-crop.jpg
END:VEVENT
BEGIN:VEVENT
DTSTART;TZID=America/Chicago:20260308T140000
DTEND;TZID=America/Chicago:20260308T140000
DTSTAMP:20260422T094446
CREATED:20260218T210128Z
LAST-MODIFIED:20260218T210128Z
UID:741-1772978400-1772978400@stoneycreekpublishing.com
SUMMARY:Rickwood Signing at Rockies' Spring Training
DESCRIPTION:
URL:http://stoneycreekpublishing.com/event/rickwood-signing-at-rockies-spring-training/
LOCATION:Salt River Fields\, 7555 N. Pima Rd\, Scottsdale\, 85258
CATEGORIES:Book signing
ATTACH;FMTTYPE=image/jpeg:http://stoneycreekpublishing.com/wp-content/uploads/2026/02/Untitled-design-1.jpg
END:VEVENT
BEGIN:VEVENT
DTSTART;TZID=America/Chicago:20260307T140000
DTEND;TZID=America/Chicago:20260307T140000
DTSTAMP:20260422T094446
CREATED:20260218T205526Z
LAST-MODIFIED:20260218T210220Z
UID:738-1772892000-1772892000@stoneycreekpublishing.com
SUMMARY:Book Signing at Diamondbacks' Spring Training
DESCRIPTION:
URL:http://stoneycreekpublishing.com/event/book-signing-at-spring-training/
LOCATION:Salt River Fields\, 7555 N. Pima Rd\, Scottsdale\, 85258
CATEGORIES:Book signing
ATTACH;FMTTYPE=image/png:http://stoneycreekpublishing.com/wp-content/uploads/2026/01/Rickwood.png
END:VEVENT
BEGIN:VEVENT
DTSTART;TZID=America/Chicago:20260307T110000
DTEND;TZID=America/Chicago:20260307T130000
DTSTAMP:20260422T094446
CREATED:20260218T204641Z
LAST-MODIFIED:20260218T210255Z
UID:736-1772881200-1772888400@stoneycreekpublishing.com
SUMMARY:Rickwood Book Signing
DESCRIPTION:
URL:http://stoneycreekpublishing.com/event/rickwood-book-signing-2/
LOCATION:Barnes & Noble\, Scottsdale Fiesta Shopping Center\, 10500 N. 90th Street\, Scottsdale\, AZ\, 85258\, United States
CATEGORIES:Book signing
ATTACH;FMTTYPE=image/jpeg:http://stoneycreekpublishing.com/wp-content/uploads/2026/02/Untitled-design-1.jpg
END:VEVENT
BEGIN:VEVENT
DTSTART;TZID=America/Chicago:20260304T100000
DTEND;TZID=America/Chicago:20260304T100000
DTSTAMP:20260422T094446
CREATED:20260214T201950Z
LAST-MODIFIED:20260214T204147Z
UID:700-1772618400-1772618400@stoneycreekpublishing.com
SUMMARY:Whitt\, Mock Talk Rickwood and Baseball
DESCRIPTION:
URL:http://stoneycreekpublishing.com/event/whitt-mock-talk-rickwood-and-baseball/
LOCATION:Sun City Grand\, Cimarron Club Room\, 17100 West Clearview Blvd\, Surprise\, AZ\, 85387\, United States
CATEGORIES:Book signing
ATTACH;FMTTYPE=image/jpeg:http://stoneycreekpublishing.com/wp-content/uploads/2026/02/Untitled-design-1.jpg
END:VEVENT
BEGIN:VEVENT
DTSTART;TZID=America/Chicago:20260224T093000
DTEND;TZID=America/Chicago:20260224T093000
DTSTAMP:20260422T094446
CREATED:20260129T003119Z
LAST-MODIFIED:20260214T203111Z
UID:663-1771925400-1771925400@stoneycreekpublishing.com
SUMMARY:"No Saints Here" book signing
DESCRIPTION:
URL:http://stoneycreekpublishing.com/event/no-saints-here-book-signing/
LOCATION:Texas Woman’s University\, 307 Administration Drive\, Denton\, TX\, 76204\, United States
CATEGORIES:Book signing
ATTACH;FMTTYPE=image/jpeg:http://stoneycreekpublishing.com/wp-content/uploads/2026/01/No-Saints-Here-Front-Cover.jpeg
END:VEVENT
BEGIN:VEVENT
DTSTART;TZID=America/Chicago:20260221T173000
DTEND;TZID=America/Chicago:20260221T200000
DTSTAMP:20260422T094446
CREATED:20260129T001449Z
LAST-MODIFIED:20260129T005514Z
UID:654-1771695000-1771704000@stoneycreekpublishing.com
SUMMARY:'Dark Texas' Launch
DESCRIPTION:
URL:http://stoneycreekpublishing.com/event/dark-texas-lauch/
LOCATION:Why Knot Bar\, 353 Watersedge Terrace Dr\, Elgin\, TX\, 78621\, United States
CATEGORIES:Book signing
ATTACH;FMTTYPE=image/jpeg:http://stoneycreekpublishing.com/wp-content/uploads/2026/01/DARK-TEXAS-cover-image-scaled.jpg
END:VEVENT
BEGIN:VEVENT
DTSTART;TZID=America/Chicago:20260218T080000
DTEND;TZID=America/Chicago:20260218T170000
DTSTAMP:20260422T094446
CREATED:20260218T204047Z
LAST-MODIFIED:20260218T204121Z
UID:732-1771401600-1771434000@stoneycreekpublishing.com
SUMMARY:Rickwood Book Signing — Barnes & Noble\, Scottsdale AZ
DESCRIPTION:
URL:http://stoneycreekpublishing.com/event/rickwood-book-signing/
LOCATION:Barnes & Noble\, Scottsdale Fiesta Shopping Center\, 10500 N. 90th Street\, Scottsdale\, AZ\, 85258\, United States
CATEGORIES:Book signing
ATTACH;FMTTYPE=image/jpeg:http://stoneycreekpublishing.com/wp-content/uploads/2026/02/Untitled-design-1.jpg
END:VEVENT
END:VCALENDAR